BEGIN:VCALENDAR
VERSION:2.0
PRODID:-//ChamberMaster//Event Calendar 2.0//EN
METHOD:PUBLISH
X-PUBLISHED-TTL:P3D
REFRESH-INTERVAL:P3D
CALSCALE:GREGORIAN
BEGIN:VEVENT
DTSTART:20210504T220000Z
DTEND:20210504T230000Z
X-MICROSOFT-CDO-ALLDAYEVENT:FALSE
SUMMARY:Webinar - Social Security and Your Retirement
DESCRIPTION:Regardless of when you plan to retire\, Social Security will likely be an important part of the road ahead. But do you know the rules of the road when it comes to Social Security? Determining when to begin benefits could be one of the biggest financial decisions you face\, and there are key issues to consider. Here's an opportunity to attend a valuable educational virtual seminar on this important topic\, at no cost and no obligation.\n\nDuring the virtual seminar\, you'll find out more about your Social Security benefits and discuss the role they play when setting a clear direction for your financial future. You'll learn the answers to your Social Security questions\, including:\n\n\n	What are the rules for starting your Social Security benefits?\n	How do spouses coordinate their benefits?\n	Are there different routes to take that could potentially increase your benefits?\n	How do you decide where Social Security fits within your retirement plans?\n\n\nThis workshop is educational only and is not investment advice. If you need advice regarding your financial goals and investment needs\, contact a financial advisor. All guarantees are based on the claims-paying ability of the issuer. CUNA Mutual Group is the marketing name for CUNA Mutual Holding Company\, a mutual insurance holding company\, its subsidiaries and affiliates. Annuities are issued by CMFG Life Insurance Company (CMFG Life) and MEMBERS Life Insurance Company (MEMBERS Life) and distributed by their affiliate\, CUNA Brokerage Services\, Inc.\, member FINRA/SIPC\, a registered broker/dealer and investment advisor\, 2000 Heritage Way\, Waverly\, IA\, 50677. CMFG Life and MEMBERS Life are stock insurance companies. MEMBERS  is a registered trademark of CMFG Life. Investment and insurance products are not federally insured\, may involve investment risk\, may lose value and are not obligations of or guaranteed by any depository or lending institution. All contracts and forms may vary by state\, and may not be available in all states or through all broker/dealers. Asset allocation and diversification do not guarantee a profit or prevent a loss. See your prospectus for details about your investment options and refer to the fund prospectus for information on specific investment objectives. Variable annuities are sold by prospectus only. You can obtain a prospectus by contacting your financial advisor or the insurance company. Read it carefully. MGA-3052356.1-0420-0522
X-ALT-DESC;FMTTYPE=text/html:<p style="box-sizing: border-box\; margin: 0px 0px 10px\; font-size: 18px\; font-family: Arial\, Helvetica\, sans-serif\;">Regardless of when you plan to retire\, Social Security will likely be an important part of the road ahead. But do you know the rules of the road when it comes to Social Security? Determining when to begin benefits could be one of the biggest financial decisions you face\, and there are key issues to consider. Here&rsquo\;s an opportunity to attend a valuable educational virtual seminar on this important topic\, at no cost and no obligation.</p>\n\n<p style="box-sizing: border-box\; margin: 0px 0px 10px\; font-size: 18px\; font-family: Arial\, Helvetica\, sans-serif\;">During the virtual seminar\, you&rsquo\;ll find out more about your Social Security benefits and discuss the role they play when setting a clear direction for your financial future. You&rsquo\;ll learn the answers to your Social Security questions\, including:</p>\n\n<ul style="box-sizing: border-box\; margin-top: 0px\; margin-bottom: 10px\; padding-right: 0px\; padding-left: 0px\; list-style: none\; font-family: Arial\, Helvetica\, sans-serif\; font-size: 18px\;">\n	<li style="box-sizing: border-box\; padding-left: 30px\; background: url(&quot\;/themes/custom/rfcu/images/blue-check-icon.png&quot\;) left top no-repeat\; text-align: left\; font-size: 15px\; list-style-type: none\; margin: 10px 0px 15px\;">What are the rules for starting your Social Security benefits?</li>\n	<li style="box-sizing: border-box\; padding-left: 30px\; background: url(&quot\;/themes/custom/rfcu/images/blue-check-icon.png&quot\;) left top no-repeat\; text-align: left\; font-size: 15px\; list-style-type: none\; margin: 10px 0px 15px\;">How do spouses coordinate their benefits?</li>\n	<li style="box-sizing: border-box\; padding-left: 30px\; background: url(&quot\;/themes/custom/rfcu/images/blue-check-icon.png&quot\;) left top no-repeat\; text-align: left\; font-size: 15px\; list-style-type: none\; margin: 10px 0px 15px\;">Are there different routes to take that could potentially increase your benefits?</li>\n	<li style="box-sizing: border-box\; padding-left: 30px\; background: url(&quot\;/themes/custom/rfcu/images/blue-check-icon.png&quot\;) left top no-repeat\; text-align: left\; font-size: 15px\; list-style-type: none\; margin: 10px 0px 15px\;">How do you decide where Social Security fits within your retirement plans?</li>\n</ul>\n\n<p class="small-text" style="box-sizing: border-box\; margin: 0px\; font-family: Arial\, Helvetica\, sans-serif\; font-size: 12px !important\;">This workshop is educational only and is not investment advice. If you need advice regarding your financial goals and investment needs\, contact a financial advisor. All guarantees are based on the claims-paying ability of the issuer. CUNA Mutual Group is the marketing name for CUNA Mutual Holding Company\, a mutual insurance holding company\, its subsidiaries and affiliates. Annuities are issued by CMFG Life Insurance Company (CMFG Life) and MEMBERS Life Insurance Company (MEMBERS Life) and distributed by their affiliate\, CUNA Brokerage Services\, Inc.\, member FINRA/SIPC\, a registered broker/dealer and investment advisor\, 2000 Heritage Way\, Waverly\, IA\, 50677. CMFG Life and MEMBERS Life are stock insurance companies. MEMBERS&reg\; is a registered trademark of CMFG Life. Investment and insurance products are not federally insured\, may involve investment risk\, may lose value and are not obligations of or guaranteed by any depository or lending institution. All contracts and forms may vary by state\, and may not be available in all states or through all broker/dealers. Asset allocation and diversification do not guarantee a profit or prevent a loss. See your prospectus for details about your investment options and refer to the fund prospectus for information on specific investment objectives. Variable annuities are sold by prospectus only. You can obtain a prospectus by contacting your financial advisor or the insurance company. Read it carefully. MGA-3052356.1-0420-0522</p>\n
LOCATION:Webinar workshop - on your computer.
UID:e.2852.699
SEQUENCE:3
DTSTAMP:20260424T191435Z
URL:https://www.peachchamber.com/events/details/webinar-social-security-and-your-retirement-699
END:VEVENT

END:VCALENDAR
