BEGIN:VCALENDAR
VERSION:2.0
PRODID:-//ChamberMaster//Event Calendar 2.0//EN
METHOD:PUBLISH
X-PUBLISHED-TTL:P3D
REFRESH-INTERVAL:P3D
CALSCALE:GREGORIAN
BEGIN:VEVENT
DTSTART:20240910T170000Z
DTEND:20240910T180000Z
X-MICROSOFT-CDO-ALLDAYEVENT:FALSE
SUMMARY:Peach County BOE Meeting
DESCRIPTION:The Peach County Board of Education is scheduled to meet for their monthly meeting.
X-ALT-DESC;FMTTYPE=text/html:The Peach County Board of Education is scheduled to meet for their monthly meeting.&nbsp\;&nbsp\;
LOCATION:900 Campus Drive Fort Valley\, GA 31030
UID:e.2852.1070
SEQUENCE:3
DTSTAMP:20260419T120157Z
URL:https://www.peachchamber.com/events/details/peach-county-boe-meeting-09-10-2024-1070
END:VEVENT

END:VCALENDAR
