BEGIN:VCALENDAR
VERSION:2.0
PRODID:-//ChamberMaster//Event Calendar 2.0//EN
METHOD:PUBLISH
X-PUBLISHED-TTL:P3D
REFRESH-INTERVAL:P3D
CALSCALE:GREGORIAN
BEGIN:VEVENT
DTSTART:20271206T210000Z
DTEND:20271206T220000Z
X-MICROSOFT-CDO-ALLDAYEVENT:FALSE
SUMMARY:Fort Valley Utility Commission Work Session
DESCRIPTION:FVUC work session meeting is the 1st Monday of each month.
X-ALT-DESC;FMTTYPE=text/html:FVUC work session meeting is the 1st Monday of each month.&nbsp\;
LOCATION:FVUC 500 Anthoine Street Fort Valey\, GA 31030
UID:e.2852.1532
SEQUENCE:3
DTSTAMP:20260420T033254Z
URL:https://www.peachchamber.com/events/details/fort-valley-utility-commission-work-session-12-06-2027-1532
END:VEVENT

END:VCALENDAR
